BEGIN:VCALENDAR
VERSION:2.0
PRODID:-//AudioTheme 3.0.2
BEGIN:VEVENT
UID:urn:uuid:07f5625a-efdf-47fc-a919-2e6b1c714baf
URL:https://www.himandhertx.com/shows/him-her-on-koop-radio-show-the-singer-and-the-song-austin-tx/
DTSTART;TZID=GMT:20180630T000000
SUMMARY:Him & Her on KOOP Radio show The Singer and the Song (Austin TX)
LOCATION:KOOP Radio FM 91.7\, FM or online\, Austin\, Texas\, United States
END:VEVENT
END:VCALENDAR
