BEGIN:VCALENDAR
VERSION:2.0
PRODID:-//AudioTheme 3.0.2
BEGIN:VEVENT
UID:urn:uuid:8d201c7d-12d1-47da-b5f4-92c6c0d061b9
URL:https://www.himandhertx.com/shows/him-her-perform-in-kerrville/
DTSTART;TZID=GMT:20250808T230000
SUMMARY:Him & Her perform in Kerrville
DESCRIPTION:Him & Her returns to Kerrville. Combine the blend of Him & Her music\, excellent food & locally-brewed beer\, and you have a wonderful evening in town. 
LOCATION:The Pint & Plow\, 332 Clay St\, Kerrville\, Texas\, 78028
END:VEVENT
END:VCALENDAR
