BEGIN:VCALENDAR
VERSION:2.0
PRODID:-//AudioTheme 3.0.2
BEGIN:VEVENT
UID:urn:uuid:2d3262ff-848a-4c71-a4cd-db8f8699c1dc
URL:https://www.himandhertx.com/shows/him-her-private-party-for-klru-tv/
DTSTART;TZID=GMT:20190210T210000
SUMMARY:Him & Her - KLRU TV event near Dripping Springs
DESCRIPTION:Him & Her perform in Dripping Springs for a KLRU screening of Austin City Limits Documentary. Jonathan Lee on guitar. Open to the public 
LOCATION:Sky Cinemas Dripping Springs\, 166 Hargraves St.\, Unit A100\,\, Austin\, TX\, USA\, 78737
END:VEVENT
END:VCALENDAR
