BEGIN:VCALENDAR
VERSION:2.0
PRODID:-//AudioTheme 3.0.2
BEGIN:VEVENT
UID:urn:uuid:a92363ee-bdd6-441d-8998-c7625d48cb23
URL:https://www.himandhertx.com/shows/him-her-south-austin-house-concert/
DTSTART;TZID=GMT:20191020T010000
SUMMARY:Him & Her - Sessions on Mary House Concert
DESCRIPTION:Him & Her will be sharing the bill with Austin Music Award-Winning Texas Hot Flash at wonderful Sessions on Mary house concert\,  Call the Concert series for details at 512-470-1919 or email our hosts John Loughran and Carol Cody at john@sessionsonmary.com. This concert is at a private residence. A crowded show fills the 20 or so seats with about 20 more standing. Folks wanting to reserve seats can text John with the request.
LOCATION:Sessions on Mary House Concert\, 608 West Mary Street\, Austin\, TX\, USA\, 78704
END:VEVENT
END:VCALENDAR
