BEGIN:VCALENDAR
VERSION:2.0
PRODID:-//AudioTheme 3.0.2
BEGIN:VEVENT
UID:urn:uuid:2a82b321-3e45-4a45-a36e-a6a7c7e7a7f8
URL:https://www.himandhertx.com/shows/him-her-the-world-harmonica-festival/
DTSTART;VALUE=DATE:20171109
SUMMARY:Him & Her - The World Harmonica Festival
LOCATION:Dr. Ernst Hohner Concerthall\, Trossingen\, \, Germany
END:VEVENT
END:VCALENDAR
