BEGIN:VCALENDAR
VERSION:2.0
PRODID:-//AudioTheme 3.0.2
BEGIN:VEVENT
UID:urn:uuid:db6f5496-13e7-4474-843a-67b58c9104b0
URL:https://www.himandhertx.com/shows/him-her-to-perform-at-ontario-festival-sunrun-revival/
DTSTART;TZID=GMT:20240831T000000
SUMMARY:Him & Her to perform at Maynooth, Ontario Festival - SunRun Revival
DESCRIPTION:Him & Her is pleased to perform at the amazing SunRun Revival\, in Ontario\, Canada. Please join us if you can!
LOCATION:SunRun Revival\, Maynooth\, Ontario\, Canada
END:VEVENT
END:VCALENDAR
