BEGIN:VCALENDAR
VERSION:2.0
PRODID:-//AudioTheme 3.0.2
BEGIN:VEVENT
UID:urn:uuid:f092dce5-25da-45ad-be2d-b7b6b14324d7
URL:https://www.himandhertx.com/shows/him-her-trio-at-alamo-springs-cafe/
DTSTART;TZID=GMT:20170211T000000
SUMMARY:Him & Her Trio at Alamo Springs Cafe
LOCATION:Alamo Springs Cafe\, 107 Alamo Rd\, Fredericksburg\, Texas\, 78624
END:VEVENT
END:VCALENDAR
