BEGIN:VCALENDAR
VERSION:2.0
PRODID:-//AudioTheme 3.0.2
BEGIN:VEVENT
UID:urn:uuid:9e8f4a8b-f61d-49c2-b0b0-1c1b573f2515
URL:https://www.himandhertx.com/shows/him-her-trio-at-jp-hops-house/
DTSTART;TZID=GMT:20170429T000000
SUMMARY:Him & Her Trio at JP Hops House
LOCATION:JP Hops House\, 2317 Highway 6 S\, Houston\, Texas\, 77077
END:VEVENT
END:VCALENDAR
