BEGIN:VCALENDAR
VERSION:2.0
PRODID:-//AudioTheme 3.0.2
BEGIN:VEVENT
UID:urn:uuid:7b4ce2dc-6885-4144-868e-4f9913040d72
URL:https://www.himandhertx.com/shows/him-her-trio-at-luckenbach-for-mothers-day/
DTSTART;TZID=GMT:20180513T000000
SUMMARY:Him & Her Trio at Luckenbach for Mothers' Day
LOCATION:Luckenbach\, Luckenbach\, Texas\, USA
END:VEVENT
END:VCALENDAR
