BEGIN:VCALENDAR
VERSION:2.0
PRODID:-//AudioTheme 3.0.2
BEGIN:VEVENT
UID:urn:uuid:7d4c7e97-83fb-4f21-b5f0-6c6a0706ea56
URL:https://www.himandhertx.com/shows/him-her-trio-at-patsys-cafe-austin-tx-2/
DTSTART;TZID=GMT:20170121T000000
SUMMARY:Him & Her Trio at Patsy's Cafe, Austin TX
LOCATION:Patsy's Cafe\, 5001 E Ben White Blvd\, Austin\, Texas\, 78744
END:VEVENT
END:VCALENDAR
