BEGIN:VCALENDAR
VERSION:2.0
PRODID:-//AudioTheme 3.0.2
BEGIN:VEVENT
UID:urn:uuid:61f28d69-a6e3-440e-9cd0-2f0d29ac7849
URL:https://www.himandhertx.com/shows/him-her-trio-at-rolling-oaks-festival-driftwood-tx/
DTSTART;TZID=GMT:20170513T000000
SUMMARY:Him & Her Trio at Rolling Oaks Festival, Driftwood TX
LOCATION:Rolling Oaks Clubhouse\, 1051 Lonesome Trail\, Driftwood\, Texas
END:VEVENT
END:VCALENDAR
