BEGIN:VCALENDAR
VERSION:2.0
PRODID:-//AudioTheme 3.0.2
BEGIN:VEVENT
UID:urn:uuid:3fda27a6-4918-4373-b481-6b7a8d74fe5d
URL:https://www.himandhertx.com/shows/him-her-trio-at-texas-wine-collective/
DTSTART;TZID=GMT:20250412T180000
SUMMARY:Him & Her Trio at Texas Wine Collective
DESCRIPTION:The Him & Her Trio is excited to return to play at one of our favorite wineries in the Hill Country\, Texas Wine Collective
LOCATION:Texas Wine Collective\, 10354 E US-290\, Fredericksburg\, TX\, United States\, 78624
END:VEVENT
END:VCALENDAR
