BEGIN:VCALENDAR
VERSION:2.0
PRODID:-//AudioTheme 3.0.2
BEGIN:VEVENT
UID:urn:uuid:8f48747e-c1c2-4335-811b-710e758fa3ef
URL:https://www.himandhertx.com/shows/him-her-trio-at-the-auslander-the-outsider-songwriter-spotlight/
DTSTART;TZID=GMT:20170226T000000
SUMMARY:Him & Her Trio at The Auslander - The Outsider Songwriter Spotlight
LOCATION:The Auslander\, 323 E Main St\, Fredericksburg\, Texas\, 78624
END:VEVENT
END:VCALENDAR
