BEGIN:VCALENDAR
VERSION:2.0
PRODID:-//AudioTheme 3.0.2
BEGIN:VEVENT
UID:urn:uuid:0ea5806a-3dd5-4c9b-ab31-dde169578a6c
URL:https://www.himandhertx.com/shows/him-her-trio-at-the-pint-plow/
DTSTART;TZID=GMT:20241208T000000
SUMMARY:Him & Her Trio at the Pint & Plow
DESCRIPTION:Him & Her returns to Kerrville. Combine the blend of Him & Her music\, excellent food & locally-brewed beer\, and you have a wonderful evening in town. We will play indoors if needed due to weather.
LOCATION:The Pint & Plow\, 332 Clay St\, Kerrville\, Texas\, 78028
END:VEVENT
END:VCALENDAR
