BEGIN:VCALENDAR
VERSION:2.0
PRODID:-//AudioTheme 3.0.2
BEGIN:VEVENT
UID:urn:uuid:475d66e4-6ba8-4ba0-93f3-0e114008e016
URL:https://www.himandhertx.com/shows/him-her-trio-at-the-redbud-cafe/
DTSTART;TZID=GMT:20180706T000000
SUMMARY:Him & Her Trio at the Redbud Café
LOCATION:Redbud Café\, 410 4th Street\, Blanco\, Texas\, United States\, 78606
END:VEVENT
END:VCALENDAR
