BEGIN:VCALENDAR
VERSION:2.0
PRODID:-//AudioTheme 3.0.2
BEGIN:VEVENT
UID:urn:uuid:fd03d259-140f-4dba-8ac8-893cdc1ac102
URL:https://www.himandhertx.com/shows/him-her-trio-at-the-texas-wine-collective/
DTSTART;TZID=GMT:20231209T190000
SUMMARY:Him & Her Trio at the Texas Wine Collective
DESCRIPTION:The Him & Her Trio is pleased to return to play from 1 to 5pm at the Texas Wine Collective near Fredericksburg. TWC is one of their favorite wine venues in the area!
LOCATION:Texas Wine Collective\, 10354 E US-290\, Fredericksburg\, TX\, United States\, 78624
END:VEVENT
END:VCALENDAR
