BEGIN:VCALENDAR
VERSION:2.0
PRODID:-//AudioTheme 3.0.2
BEGIN:VEVENT
UID:urn:uuid:c69ed1c8-7d2d-4c87-9d44-efcd9272df03
URL:https://www.himandhertx.com/shows/him-her-trio-at-the-wimberley-sound-stage-concert-series/
DTSTART;TZID=GMT:20170225T000000
SUMMARY:Him & Her Trio at the Wimberley Sound Stage concert series
LOCATION:Wimberley Sound Stage\, 691C La Buena Vista
END:VEVENT
END:VCALENDAR
