BEGIN:VCALENDAR
VERSION:2.0
PRODID:-//AudioTheme 3.0.2
BEGIN:VEVENT
UID:urn:uuid:19f79616-8683-435c-a6d5-ab954efbe377
URL:https://www.himandhertx.com/shows/him-her-trio-concert-window-for-st-valentines/
DTSTART;TZID=GMT:20170216T000000
SUMMARY:Him & Her Trio - Concert Window for St Valentine's
LOCATION:ConcertWindow (online)
END:VEVENT
END:VCALENDAR
