BEGIN:VCALENDAR
VERSION:2.0
PRODID:-//AudioTheme 3.0.2
BEGIN:VEVENT
UID:urn:uuid:3cdedee1-ac60-42fe-8abc-cef87cb83c9c
URL:https://www.himandhertx.com/shows/him-her-trio-in-kerrville-for-the-start-of-spring-break/
DTSTART;TZID=GMT:20250309T000000
SUMMARY:Him & Her Trio in Kerrville for the start of Spring Break
DESCRIPTION:Him & Her returns to Kerrville. Combine the blend of Him & Her music\, excellent food & locally-brewed beer\, and you have a wonderful spring evening in town.
LOCATION:The Pint & Plow\, 332 Clay St\, Kerrville\, Texas\, 78028
END:VEVENT
END:VCALENDAR
