BEGIN:VCALENDAR
VERSION:2.0
PRODID:-//AudioTheme 3.0.2
BEGIN:VEVENT
UID:urn:uuid:e5ab3d24-170f-44fb-bf6a-138f00611035
URL:https://www.himandhertx.com/shows/him-her-trio-private-event/
DTSTART;TZID=GMT:20231208T010000
SUMMARY:Him & Her Band - Private Event
DESCRIPTION:The Him & Her Trio is proud to be helping friends and neighbors celebrate Christmas and the Holiday Season in Fredericksburg
LOCATION:Private Venue\, Fredericksburg\, TX\, United States
END:VEVENT
END:VCALENDAR
