BEGIN:VCALENDAR
VERSION:2.0
PRODID:-//AudioTheme 3.0.2
BEGIN:VEVENT
UID:urn:uuid:16e25536-18d1-4a86-9cc4-fecff0514c2f
URL:https://www.himandhertx.com/shows/him-her-trio-return-to-the-club-at-barons-creekside-fredericksburg/
DTSTART;TZID=GMT:20220227T003000
SUMMARY:Him & Her Trio return to The CLUB at Baron's CreekSide, Fredericksburg
DESCRIPTION:The Him & Her Trio will be on the patio playing for your pleasure while you enjoy the excellent hospitality\, wonderful food and local beverages at The CLUB. Fredericksburg's best sunset is to be seen here!
LOCATION:The CLUB at Baron's CreekSide\, The CLUB at Barons CreekSide\, 316 Goehmann Ln\, Fredericksburg\, Texas\, USA\, 78624
END:VEVENT
END:VCALENDAR
