BEGIN:VCALENDAR
VERSION:2.0
PRODID:-//AudioTheme 3.0.2
BEGIN:VEVENT
UID:urn:uuid:3acebca7-851a-4141-a246-6781d19f35ad
URL:https://www.himandhertx.com/shows/him-her-trio-return-to-the-java-jam-in-wharton-tx/
DTSTART;TZID=GMT:20170428T000000
SUMMARY:Him & Her Trio return to the Java Jam in Wharton, TX
LOCATION:Milam Street Coffee House\, 200 W Milam St\, Wharton\, Texas\, 77488
END:VEVENT
END:VCALENDAR
