BEGIN:VCALENDAR
VERSION:2.0
PRODID:-//AudioTheme 3.0.2
BEGIN:VEVENT
UID:urn:uuid:397618d2-1f59-4146-b03e-bb2b0f712509
URL:https://www.himandhertx.com/shows/him-her-trio-show-tell-at-alamo-hoot-club/
DTSTART;TZID=GMT:20171007T190000
SUMMARY:Him & Her Trio - Show & Tell at Alamo HOOT Club
LOCATION:Alamo HOOT Club\, NEISD Community Education\, 8750 Tesoro.\, San Antonio\, Texas\, USA\, 78217
END:VEVENT
END:VCALENDAR
