BEGIN:VCALENDAR
VERSION:2.0
PRODID:-//AudioTheme 3.0.2
BEGIN:VEVENT
UID:urn:uuid:a800febe-ab7f-44d2-80ec-b4d146b7c2d7
URL:https://www.himandhertx.com/shows/him-playing-the-blues-with-bill-reid-at-the-club-at-barons-creekside/
DTSTART;TZID=GMT:20190921T000000
SUMMARY:Him playing the blues with Bill Reid at The CLUB at Baron's CreekSide
DESCRIPTION:Michael will join bluesman Bill Reed and Shelley Rogers to play some old favorites.
LOCATION:The CLUB at Baron's CreekSide\, The CLUB at Barons CreekSide\, 316 Goehmann Ln\, Fredericksburg\, Texas\, USA\, 78624
END:VEVENT
END:VCALENDAR
