BEGIN:VCALENDAR
VERSION:2.0
PRODID:-//AudioTheme 3.0.2
BEGIN:VEVENT
UID:urn:uuid:7219e5c0-187a-40a0-bbbe-e17ab1b7b4c5
URL:https://www.himandhertx.com/shows/joe-filisko-eric-noden-present-music-conversation-featuring-the-him-her-trio/
DTSTART;TZID=GMT:20210318T183000
SUMMARY:Joe Filisko & Eric Noden present Music & Conversation featuring the Him & Her Trio
DESCRIPTION:Joe Filisko & Eric Noden present Music & Conversation featuring the Him & Her Trio   An ONLINE concert and discussion with our friends Eric and Joe.    Thursday March 18 (1:30pm CST)  Tickets $20  Ticket Link: https://34lounge.com/product/him-her/   Facebook event https://www.facebook.com/events/1190548464717670  
LOCATION:Joe Filisko & Eric Noden present Music & Conversation\, United States
END:VEVENT
END:VCALENDAR
