BEGIN:VCALENDAR
VERSION:2.0
PRODID:-//AudioTheme 3.0.2
BEGIN:VEVENT
UID:urn:uuid:d5fb0a3d-e820-4948-a9b4-984e16abcfb8
URL:https://www.himandhertx.com/shows/michael-him-and-rob-roy-parnell-record-the-rcd-show-at-wimberley-valley-radio-94-1fm/
DTSTART;TZID=GMT:20170125T000000
SUMMARY:Michael ("Him") and Rob Roy Parnell record The RCD Show at Wimberley Valley Radio 94.1FM
LOCATION:Wimberley Valley Radio 94.1FM\, 111 Old Kyle Road\, Suite 108\, Wimberley\, TX\, 78676
END:VEVENT
END:VCALENDAR
