BEGIN:VCALENDAR
VERSION:2.0
PRODID:-//AudioTheme 3.0.2
BEGIN:VEVENT
UID:urn:uuid:be762e58-d7b3-4812-9321-57bdbf08b47f
URL:https://www.himandhertx.com/shows/michael-teaching-at-kerrville-folk-festival-harmonica-workshop/
DTSTART;TZID=GMT:20201012T000000
SUMMARY:Michael teaching at Kerrville Folk Festival Harmonica Workshop
DESCRIPTION:October 12-14\, 2020. Michael will be teaching at the Workshop\, assisting Director Rob Roy Parnell\, and faculty Todd Parrott\, Ronnie Shellist and Brian "Hash Brown" Calway.
LOCATION:Kerrville Folk Festival\, Quiet Valley Ranch\, Route 16\, 9 miles south of Kerrville\, Texas\, United States
END:VEVENT
END:VCALENDAR
