BEGIN:VCALENDAR
VERSION:2.0
PRODID:-//AudioTheme 3.0.2
BEGIN:VEVENT
UID:urn:uuid:23d3d543-e654-46ad-9378-9f2fc230e37c
URL:https://www.himandhertx.com/shows/teaching-harmonica-at-the-kerrville-folk-festival-harmonica-workshop-2/
DTSTART;TZID=GMT:20230605T000000
SUMMARY:Teaching harmonica at the Kerrville Folk Festival Harmonica Workshop
DESCRIPTION:Michael is excited to be returning as part of the faculty to teach at the renowned Kerrville Folk Festival for the Harmonica Workshop\, now in its 15th year. 3-day event: June 5-6-7. 
LOCATION:Kerrville Folk Festival\, Quiet Valley Ranch\, Route 16\, 9 miles south of Kerrville\, Texas\, United States
END:VEVENT
END:VCALENDAR
