BEGIN:VCALENDAR
VERSION:2.0
PRODID:-//AudioTheme 3.0.2
BEGIN:VEVENT
UID:urn:uuid:dd731ff4-1479-447c-b50d-3c3ad702b3fd
URL:https://www.himandhertx.com/shows/the-him-her-band-at-the-rolling-oaks-festival/
DTSTART;TZID=GMT:20221008T000000
SUMMARY:The Him & Her Band at the Rolling Oaks Festival
DESCRIPTION:The Him & her Band is pleased to return to the Rolling Oaks Festival to perform as a band. The Festival starts at 10am Saturday. Please come and spend the day with us!
LOCATION:Rolling Oaks Clubhouse\, 1051 Lonesome Trail\, Driftwood\, Texas
END:VEVENT
END:VCALENDAR
