BEGIN:VCALENDAR
VERSION:2.0
PRODID:-//AudioTheme 3.0.2
BEGIN:VEVENT
UID:urn:uuid:8950549c-5f5e-4504-82ca-b8d8f2d14047
URL:https://www.himandhertx.com/shows/the-him-her-band-pint-plow-kerrville-tx/
DTSTART;TZID=GMT:20221211T000000
SUMMARY:The Him & Her Band - Pint & Plow, Kerrville Texas
DESCRIPTION:The Him & Her Band returns to its favorite venue in Kerrville. Combine the unique blend of Him & Her music\, excellent locally-brewed beer\, and great food and you have the essence of a cool December evening in town.
LOCATION:The Pint & Plow\, 332 Clay St\, Kerrville\, Texas\, 78028
END:VEVENT
END:VCALENDAR
