BEGIN:VCALENDAR
VERSION:2.0
PRODID:-//AudioTheme 3.0.2
BEGIN:VEVENT
UID:urn:uuid:7501ba52-b7d4-413c-a2f5-e7f91e7572e6
URL:https://www.himandhertx.com/shows/the-him-her-trio-fundraiser-for-claudia-zapata-pontotoc-vineyard/
DTSTART;TZID=GMT:20220927T220000
SUMMARY:The Him & Her Trio - Fundraiser at Pontotoc Vineyard
DESCRIPTION:The Him & Her Trio is pleased to play for this fundraiser in Fredericksburg. 
LOCATION:Pontotoc Vineyard\, 320 W Main St\,\, Fredericksburg\, Texas\, United States\, 78624
END:VEVENT
END:VCALENDAR
