BEGIN:VCALENDAR
VERSION:2.0
PRODID:-//AudioTheme 3.0.2
BEGIN:VEVENT
UID:urn:uuid:1258c23c-e82b-4262-a6c5-80dfb3739a24
URL:https://www.himandhertx.com/shows/the-him-her-trio-in-kerrville-the-pint-plow-2/
DTSTART;TZID=GMT:20220806T230000
SUMMARY:The Him & Her Band in Kerrville - The Pint & Plow
DESCRIPTION:The Him & Her Band is pleased to their return to the wonderful Pint & Plow in Kerrville\, TX on the outdoor stage. Please come out to enjoy their great food\, excellent local beers and wines\, and the sounds of Him & Her. . This will be our first public performance with Andy Pepper on drums\, who adds amazing rhythm with his jazz and blues style!
LOCATION:The Pint & Plow\, 332 Clay St\, Kerrville\, Texas\, 78028
END:VEVENT
END:VCALENDAR
