BEGIN:VCALENDAR
VERSION:2.0
PRODID:-//AudioTheme 3.0.2
BEGIN:VEVENT
UID:urn:uuid:1258c23c-e82b-4262-a6c5-80dfb3739a24
URL:https://www.himandhertx.com/shows/the-him-her-trio-in-kerrville-the-pint-plow/
DTSTART;TZID=GMT:20220306T000000
SUMMARY:The Him & Her Trio in Kerrville - The Pint & Plow
DESCRIPTION:The Him & Her Trio is pleased to announce its first Trio gig in Kerrville\, Texas - opening the season on the wonderful Pint & Plow outdoor stage. Please come out to enjoy their great food\, excellent local beers and wines\, and the sounds of Him & Her.
LOCATION:The Pint & Plow\, 332 Clay St\, Kerrville\, Texas\, 78028
END:VEVENT
END:VCALENDAR
