BEGIN:VCALENDAR
VERSION:2.0
PRODID:-//AudioTheme 3.0.2
BEGIN:VEVENT
UID:urn:uuid:acb57854-6ce6-42e6-b47f-46fa19adb4a0
URL:https://www.himandhertx.com/shows/the-him-her-trio-live-at/
DTSTART;TZID=GMT:20220811T003000
SUMMARY:The Him & Her Trio - live at 2022 SPAH Convention
DESCRIPTION:The Him & Her Trio performs on Main Stage at the 2022 SPAH Convention\, held at the Tulsa Hyatt Regency Downtown. Registered attendees can watch online or in person!
LOCATION:SPAH Convention\, Hyatt Regency Tulsa Downtown\, 100 E 2nd St\,\, Tulsa\, OK\, United States\, 74103
END:VEVENT
END:VCALENDAR
